BEGIN:VCALENDAR
VERSION:2.0
CALSCALE:GREGORIAN
PRODID:-//Diputació de Barcelona//DibaCMS//EN
BEGIN:VEVENT
UID:2777
DTSTAMP:20260423T140757
DTSTART:20150222T000000
DTEND:20150222T000000
SUMMARY:Festa dels Tonis a Calldetenes
LOCATION:
METHOD:PUBLISH
X-WR-CALNAME:calldetenes@calldetenes.cat
X-WR-TIMEZONE:Europe/Madrid
DESCRIPTION: FESTA DELS TONIS – CALLDETENES 2015     Programa d’activitats - diumenge 22 de febrer de 2015        9 h: Concentració de carruatges i cavalls. Esmorzar (Preu simbòlic: 1€) (davant del nou institut)  11 h: Exhibició de gossos d’agility (plaça Onze de Setembre)  11.30 h: Sortida del passant i recorregut pels carrers del poble. Benedicció (plaça Vella) i entrega d’obsequis (davant de l’ajuntament)  14 h: I Concurs Social de Salt dels Tonis de Calldetenes (al costat del nou institut)  14 h: concentració dels genets / 15 h: inici del concurs  Durant tot el dia: Servei de passejades amb ponis (plaça Onze de Setembre)       
URI:https://www.calldetenes.cat/lactualitat/agenda/festa-dels-tonis-a-calldetenes.html
CLASS:PUBLIC
END:VEVENT
END:VCALENDAR
