BEGIN:VCALENDAR
VERSION:2.0
CALSCALE:GREGORIAN
PRODID:-//Diputació de Barcelona//DibaCMS//EN
BEGIN:VEVENT
UID:2776
DTSTAMP:20260423T153428
DTSTART:20150214T000000
DTEND:20150214T000000
SUMMARY:Xocolatada i inflable de la JAC
LOCATION:
METHOD:PUBLISH
X-WR-CALNAME:calldetenes@calldetenes.cat
X-WR-TIMEZONE:Europe/Madrid
DESCRIPTION: 
URI:https://www.calldetenes.cat/lactualitat/agenda/xocolatada-i-inflable-de-la-jac.html
CLASS:PUBLIC
END:VEVENT
END:VCALENDAR
