BEGIN:VCALENDAR
VERSION:2.0
CALSCALE:GREGORIAN
PRODID:-//Diputació de Barcelona//DibaCMS//EN
BEGIN:VEVENT
UID:2775
DTSTAMP:20260423T210105
DTSTART:20150131T000000
DTEND:20150131T000000
SUMMARY:"Al galop" amb Carme Elias (teatre)
LOCATION:
METHOD:PUBLISH
X-WR-CALNAME:calldetenes@calldetenes.cat
X-WR-TIMEZONE:Europe/Madrid
DESCRIPTION: 
URI:https://www.calldetenes.cat/lactualitat/agenda/al-galop-amb-carme-elias-teatre.html
CLASS:PUBLIC
END:VEVENT
END:VCALENDAR
