BEGIN:VCALENDAR
VERSION:2.0
CALSCALE:GREGORIAN
PRODID:-//Diputació de Barcelona//DibaCMS//EN
BEGIN:VEVENT
UID:2774
DTSTAMP:20260423T181501
DTSTART:20150118T000000
DTEND:20150208T000000
SUMMARY:IV Calldeclowns – Festival de Pallassos de Calldetenes
LOCATION:
METHOD:PUBLISH
X-WR-CALNAME:calldetenes@calldetenes.cat
X-WR-TIMEZONE:Europe/Madrid
DESCRIPTION:   
URI:https://www.calldetenes.cat/lactualitat/agenda/iv-calldeclowns--festival-de-pallassos-de-calldetenes.html
CLASS:PUBLIC
END:VEVENT
END:VCALENDAR
