BEGIN:VCALENDAR
VERSION:2.0
CALSCALE:GREGORIAN
PRODID:-//Diputació de Barcelona//DibaCMS//EN
BEGIN:VEVENT
UID:2772
DTSTAMP:20260423T135021
DTSTART:20141228T000000
DTEND:20141228T000000
SUMMARY:Iª Tirada Cap d’any de Bitlles Catalanes
LOCATION:
METHOD:PUBLISH
X-WR-CALNAME:calldetenes@calldetenes.cat
X-WR-TIMEZONE:Europe/Madrid
DESCRIPTION: 
URI:https://www.calldetenes.cat/lactualitat/agenda/ia-tirada-cap-dany-de-bitlles-catalanes.html
CLASS:PUBLIC
END:VEVENT
END:VCALENDAR
