BEGIN:VCALENDAR
VERSION:2.0
CALSCALE:GREGORIAN
PRODID:-//Diputació de Barcelona//DibaCMS//EN
BEGIN:VEVENT
UID:2771
DTSTAMP:20260423T141021
DTSTART:20141221T190000
DTEND:20141221T000000
SUMMARY:Cantada de Nadales Solidària 2014
LOCATION:
METHOD:PUBLISH
X-WR-CALNAME:calldetenes@calldetenes.cat
X-WR-TIMEZONE:Europe/Madrid
DESCRIPTION: 
URI:https://www.calldetenes.cat/lactualitat/agenda/cantada-de-nadales-solidaria-2014.html
CLASS:PUBLIC
END:VEVENT
END:VCALENDAR
