BEGIN:VCALENDAR
VERSION:2.0
CALSCALE:GREGORIAN
PRODID:-//Diputació de Barcelona//DibaCMS//EN
BEGIN:VEVENT
UID:2770
DTSTAMP:20260423T134816
DTSTART:20141228T000000
DTEND:20141228T000000
SUMMARY:1a Sant Silvestre de Calldetenes
LOCATION:
METHOD:PUBLISH
X-WR-CALNAME:calldetenes@calldetenes.cat
X-WR-TIMEZONE:Europe/Madrid
DESCRIPTION: 
URI:https://www.calldetenes.cat/lactualitat/agenda/1a-sant-silvestre-de-calldetenes.html
CLASS:PUBLIC
END:VEVENT
END:VCALENDAR
