BEGIN:VCALENDAR
VERSION:2.0
CALSCALE:GREGORIAN
PRODID:-//Diputació de Barcelona//DibaCMS//EN
BEGIN:VEVENT
UID:2769
DTSTAMP:20260423T210037
DTSTART:20150104T190000
DTEND:20150104T000000
SUMMARY:Concert "Un Nadal barroc" amb Camera Musicae Orquestra
LOCATION:
METHOD:PUBLISH
X-WR-CALNAME:calldetenes@calldetenes.cat
X-WR-TIMEZONE:Europe/Madrid
DESCRIPTION: 
URI:https://www.calldetenes.cat/lactualitat/agenda/concert-un-nadal-barroc-amb-camera-musicae-orquestra.html
CLASS:PUBLIC
END:VEVENT
END:VCALENDAR
