BEGIN:VCALENDAR
VERSION:2.0
CALSCALE:GREGORIAN
PRODID:-//Diputació de Barcelona//DibaCMS//EN
BEGIN:VEVENT
UID:2768
DTSTAMP:20260423T123531
DTSTART:20141221T000000
DTEND:20150111T000000
SUMMARY:30ª Mostra de Pessebres. 11 de gener: Concert de cloenda amb Tam-Tam Gospel
LOCATION:
METHOD:PUBLISH
X-WR-CALNAME:calldetenes@calldetenes.cat
X-WR-TIMEZONE:Europe/Madrid
DESCRIPTION:   30ª MOSTRA DE PESSEBRES  21, 25, 26 i 28 de desembre; 1, 4, 6 i 11 de gener  Horari: 11.30 h a 13.30h i 17.30 h a 20 h  Casal Parroquial  11 de gener: Concert de cloenda amb Tam-Tam Gospel      
URI:https://www.calldetenes.cat/lactualitat/agenda/30a-mostra-de-pessebres-11-de-gener-concert-de-cloenda-amb-tam-tam-gospel.html
CLASS:PUBLIC
END:VEVENT
END:VCALENDAR
