BEGIN:VCALENDAR
VERSION:2.0
CALSCALE:GREGORIAN
PRODID:-//Diputació de Barcelona//DibaCMS//EN
BEGIN:VEVENT
UID:2766
DTSTAMP:20260423T210250
DTSTART:20141221T000000
DTEND:20141221T000000
SUMMARY:Portada del pessebre a Matagalls amb el CEC
LOCATION:
METHOD:PUBLISH
X-WR-CALNAME:calldetenes@calldetenes.cat
X-WR-TIMEZONE:Europe/Madrid
DESCRIPTION: 
URI:https://www.calldetenes.cat/lactualitat/agenda/portada-del-pessebre-a-matagalls-amb-el-cec.html
CLASS:PUBLIC
END:VEVENT
END:VCALENDAR
