BEGIN:VCALENDAR
VERSION:2.0
CALSCALE:GREGORIAN
PRODID:-//Diputació de Barcelona//DibaCMS//EN
BEGIN:VEVENT
UID:2765
DTSTAMP:20260423T134854
DTSTART:20141213T000000
DTEND:20141213T000000
SUMMARY:Calldetenes per La Marató al teatre
LOCATION:
METHOD:PUBLISH
X-WR-CALNAME:calldetenes@calldetenes.cat
X-WR-TIMEZONE:Europe/Madrid
DESCRIPTION: 
URI:https://www.calldetenes.cat/lactualitat/agenda/calldetenes-per-la-marato-al-teatre.html
CLASS:PUBLIC
END:VEVENT
END:VCALENDAR
