BEGIN:VCALENDAR
VERSION:2.0
CALSCALE:GREGORIAN
PRODID:-//Diputació de Barcelona//DibaCMS//EN
BEGIN:VEVENT
UID:2764
DTSTAMP:20260423T123612
DTSTART:20141214T000000
DTEND:20141214T000000
SUMMARY:Arrossada per la Marató de TV3
LOCATION:
METHOD:PUBLISH
X-WR-CALNAME:calldetenes@calldetenes.cat
X-WR-TIMEZONE:Europe/Madrid
DESCRIPTION:       
URI:https://www.calldetenes.cat/lactualitat/agenda/arrossada-per-la-marato-de-tv3.html
CLASS:PUBLIC
END:VEVENT
END:VCALENDAR
