BEGIN:VCALENDAR
VERSION:2.0
CALSCALE:GREGORIAN
PRODID:-//Diputació de Barcelona//DibaCMS//EN
BEGIN:VEVENT
UID:2763
DTSTAMP:20260423T221416
DTSTART:20150119T000000
DTEND:20150327T000000
SUMMARY:Tallers Alquímia d'hivern
LOCATION:
METHOD:PUBLISH
X-WR-CALNAME:calldetenes@calldetenes.cat
X-WR-TIMEZONE:Europe/Madrid
DESCRIPTION: 
URI:https://www.calldetenes.cat/lactualitat/agenda/tallers-alquimia-dhivern.html
CLASS:PUBLIC
END:VEVENT
END:VCALENDAR
