BEGIN:VCALENDAR
VERSION:2.0
CALSCALE:GREGORIAN
PRODID:-//Diputació de Barcelona//DibaCMS//EN
BEGIN:VEVENT
UID:2762
DTSTAMP:20260423T154119
DTSTART:20141207T000000
DTEND:20141207T000000
SUMMARY:Torneig solidari de Futbol al carrer. 3x3 indoor
LOCATION:
METHOD:PUBLISH
X-WR-CALNAME:calldetenes@calldetenes.cat
X-WR-TIMEZONE:Europe/Madrid
DESCRIPTION: 
URI:https://www.calldetenes.cat/lactualitat/agenda/torneig-solidari-de-futbol-al-carrer-3x3-indoor.html
CLASS:PUBLIC
END:VEVENT
END:VCALENDAR
