BEGIN:VCALENDAR
VERSION:2.0
CALSCALE:GREGORIAN
PRODID:-//Diputació de Barcelona//DibaCMS//EN
BEGIN:VEVENT
UID:2761
DTSTAMP:20260423T153953
DTSTART:20141117T000000
DTEND:20141121T000000
SUMMARY:Setmana de la Ciència a l'escola Sant Marc
LOCATION:
METHOD:PUBLISH
X-WR-CALNAME:calldetenes@calldetenes.cat
X-WR-TIMEZONE:Europe/Madrid
DESCRIPTION: 
URI:https://www.calldetenes.cat/lactualitat/agenda/setmana-de-la-ciencia-a-lescola-sant-marc.html
CLASS:PUBLIC
END:VEVENT
END:VCALENDAR
