BEGIN:VCALENDAR
VERSION:2.0
CALSCALE:GREGORIAN
PRODID:-//Diputació de Barcelona//DibaCMS//EN
BEGIN:VEVENT
UID:2760
DTSTAMP:20260423T153723
DTSTART:20141203T000000
DTEND:20141203T000000
SUMMARY:Taller: Per Nadal busca feina com cal
LOCATION:
METHOD:PUBLISH
X-WR-CALNAME:calldetenes@calldetenes.cat
X-WR-TIMEZONE:Europe/Madrid
DESCRIPTION: 
URI:https://www.calldetenes.cat/lactualitat/agenda/taller-per-nadal-busca-feina-com-cal.html
CLASS:PUBLIC
END:VEVENT
END:VCALENDAR
