BEGIN:VCALENDAR
VERSION:2.0
CALSCALE:GREGORIAN
PRODID:-//Diputació de Barcelona//DibaCMS//EN
BEGIN:VEVENT
UID:2758
DTSTAMP:20260423T123451
DTSTART:20141115T000000
DTEND:20141115T000000
SUMMARY:DISSABTE 15 DE NOVEMBRE: Dinar de colors, 1a Baixada en costa, cercavila, correfoc i concert
LOCATION:
METHOD:PUBLISH
X-WR-CALNAME:calldetenes@calldetenes.cat
X-WR-TIMEZONE:Europe/Madrid
DESCRIPTION:           14 h - Dinar de colors: grocs i verds  Cal portar-se alguna cosa per menjar i compartir, plats, got i coberts, taula i cadires.  A la carpa.    16.30 h – Cercavila dels Capgrossos petits i grans de Calldetenes i els Gegants del carrer de la Riera de Vic  Sortida de la carpa.    20.15 h – Correfoc amb l’Eskamot dels Diables de Calldetenes  Inici a la plaça Onze de Setembre i fi a la plaça Vella.    23.30 h – Concert de Sant Martí amb Jamaican Mood, Masturband, Greska i PD Batlle  A la carpa. Organitza La Pera i JAC.
URI:https://www.calldetenes.cat/lactualitat/agenda/dissabte-15-de-novembre-dinar-de-colors-1a-baixada-en-costa-cercavila-correfoc-i-concert.html
CLASS:PUBLIC
END:VEVENT
END:VCALENDAR
