BEGIN:VCALENDAR
VERSION:2.0
CALSCALE:GREGORIAN
PRODID:-//Diputació de Barcelona//DibaCMS//EN
BEGIN:VEVENT
UID:2757
DTSTAMP:20260423T140908
DTSTART:20141117T000000
DTEND:20141219T000000
SUMMARY:Tallers Alquimia tardor 2014
LOCATION:
METHOD:PUBLISH
X-WR-CALNAME:calldetenes@calldetenes.cat
X-WR-TIMEZONE:Europe/Madrid
DESCRIPTION:         
URI:https://www.calldetenes.cat/lactualitat/agenda/tallers-alquimia-tardor-2014.html
CLASS:PUBLIC
END:VEVENT
END:VCALENDAR
