BEGIN:VCALENDAR
VERSION:2.0
CALSCALE:GREGORIAN
PRODID:-//Diputació de Barcelona//DibaCMS//EN
BEGIN:VEVENT
UID:2754
DTSTAMP:20260423T164441
DTSTART:20141007T000000
DTEND:20141019T000000
SUMMARY:Exposició: "La Maternitat d'Elna"
LOCATION:
METHOD:PUBLISH
X-WR-CALNAME:calldetenes@calldetenes.cat
X-WR-TIMEZONE:Europe/Madrid
DESCRIPTION: Del 7 al 19 d'octubre  Vestíbul de l'ajuntament de Calldetenes   Horari: de dilluns a divendres de 9 a 14 h, dissabtes de 17 a 20 h i diumenges de 10 a 14 h  Inauguració i xerrada informativa: divendres 10 d'octubre a les 20 h amb la Sra. Cristina Suñen (historiadora)      L’exposició itinerant “La Maternitat d’Elna”, produïda pel Memorial Democràtic, arriba a Calldetenes. La mostra explica la història d’Elisabeth Eidenbenz i la Maternitat d’Elna, una història plena de vida i llum en un dels moments més negres de la humanitat quan al final de la Guerra Civil centenars de milers de republicans es van veure obligats a exiliar-se al sud de França. Allà van improvisar-se camps d’acolliment en pèssimes condicions sanitàries i de supervivència. En aquestes circumstàncies, les vides de les exiliades embarassades i dels nadons estaven en perill; per això, la infermera suïssa Elisabeth Eidenbenz va llogar un palauet abandonat als afores de la localitat rossellonesa d’Elna i hi va instal·lar una maternitat per acollir parteres procedents dels diferents camps de la zona. Uns sis-cents infants van néixer a la maternitat, que va tancar les portes el 1944.    L’exposició es podrà visitar entre el 7 i el 19 d’octubre de dilluns a diumenge al vestíbul de l’ajuntament de Calldetenes. L'exposició compta amb el suport del Consell Comarcal d’Osona i la col•laboració dels ajuntaments de Sant Julià de Vilatorta, Calldetenes i Santa Eugènia de Berga, i el Memorial Democràtic.     
URI:https://www.calldetenes.cat/lactualitat/agenda/exposicio-la-maternitat-delna.html
CLASS:PUBLIC
END:VEVENT
END:VCALENDAR
