BEGIN:VCALENDAR
VERSION:2.0
CALSCALE:GREGORIAN
PRODID:-//Diputació de Barcelona//DibaCMS//EN
BEGIN:VEVENT
UID:2753
DTSTAMP:20260423T151704
DTSTART:20140908T000000
DTEND:20150101T000000
SUMMARY:Programació setembre - desembre 2014 de l'Auditori Teatre de Calldetenes
LOCATION:
METHOD:PUBLISH
X-WR-CALNAME:calldetenes@calldetenes.cat
X-WR-TIMEZONE:Europe/Madrid
DESCRIPTION: Programació setembre – desembre 2014 de l’Auditori Teatre de Calldetenes      Tots els detalls de la programació a la web www.teatrecalldetenes.cat i al pdf adjunt.      Venda d’entrades anticipada a la web: www.teatrecalldetenes.cat   La compra d’entrades és sense recàrrec. La venda d’entrades es tancarà 3 hores abans de l’inici de l’espectacle.     Venda anticipada a taquilla:   La venda anticipada d’entrades es farà a les oficines municipals de l’Ajuntament de Calldetenes de dilluns a divendres, de 9 a 14 hores, o bé els diumenges d’11 a 13 hores al bar de l’Auditori Teatre. El pagament serà en efectiu.     Venda a taquilla:  Venda d’entrades a la taquilla de l’Auditori Teatre una hora abans de l’espectacle.     PROGRAMACIÓ SETEMBRE – DESEMBRE 2014:     Diumenge 14 de setembre a les 19 h: “MÚSICA PER LA LLIBERTAT 1714 -2014” Concert de l’ORQUESTRA DE CAMBRA DE L’EMPORDÀ amb la col·laboració del cantant JOANJO BOSK.      ACTES DE LA FESTA MAJOR  Diumenge 21 de setembre a les 19 h: “El testament d’en Nasi” a càrrec de El Trencaclosques, grup infantil de L’Espardenya Teatre  Dijous 25 de setembre a les 21 h: “Fem Monòlegs” amb Xevi Font i Nando Massaneda  Divendres 26 de setembre a les 21 h: “Foc al Tribunal” El Pont d’Arcalís en concert  Diumenge 28 de setembre a les 19.30 h i dissabte 4 d’octubre a les 21.30 h: “El més feliç dels tres” amb L’Espardenya Teatre      Dissabte 18 d’octubre a les 21.30 h: “AFTERPLAY” un projecte teatral d’IMMA COLOMER i FINA RIUS amb MOLA PRODUCCIONS S.L. i amb la coproducció de CAET      Divendres 24 d’octubre a les 20.30 h: “HORA DE HITS” a càrrec de NOTA TEATRE    CALLTITELLESDETENES 2014. XXII Festival de titelles  Diumenge 26 d’octubre a les 17.30 h: “Els músics de Bremen” Companyia Xip – Xap.   Diumenge 2 de novembre a les 17.30 h: “Kissu” Centre de Titelles de Lleida   Diumenge 9 de novembre a les 17.30 h: “Pallassos de Fusta Compañía de marionetas Herta Frankel   Diumenge 16 de novembre a les 17.30 h: “República de contes” Jordi Font  Diumenge 23 de novembre a les 17.30 h: “Eureka” Companyia El cau de l’unicorn  Diumenge 30 de novembre a les 16.30 h i a les 18 h: “La caputxeta i el follet” de Titelles Vergés     Dissabte 8 de novembre a les 21.30 h: “LA MÀGIA DEL MAG LARI      Dissabte 29 de novembre a les 21.30 h: “MARABUNTA” amb GUILLEM ALBÀ i THE ALL IN ORCHESTRA     Diumenge 14 de desembre a les 18 h: “LOSERS” amb ALBA FLOREJACS i JORDI DÍAZ     ACTIVITATS NADALENQUES  Diumenge 21 de desembre a les 19 h: CANTADA DE NADALES amb la Coral de Calldetenes i la Coral de Sant Tomàs. A benefici de l’Associació Sant Tomàs.   Dijous 26 de desembre a les 19 h i dimecres 1 de gener a les 19 h: PASTORETS “LA LLUM DE L’ESTABLIA” amb L’Espardenya Teatre      
URI:https://www.calldetenes.cat/lactualitat/agenda/programacio-setembre-desembre-2014-de-lauditori-teatre-de-calldetenes.html
CLASS:PUBLIC
END:VEVENT
END:VCALENDAR
