BEGIN:VCALENDAR
VERSION:2.0
CALSCALE:GREGORIAN
PRODID:-//Diputació de Barcelona//DibaCMS//EN
BEGIN:VEVENT
UID:2752
DTSTAMP:20260423T121707
DTSTART:20140911T000000
DTEND:20140911T000000
SUMMARY:DIADA NACIONAL: 11 DE SETEMBRE DE 2014
LOCATION:
METHOD:PUBLISH
X-WR-CALNAME:calldetenes@calldetenes.cat
X-WR-TIMEZONE:Europe/Madrid
DESCRIPTION: DIADA NACIONAL: 11 DE SETEMBRE DE 2014       Un any més, a Calldetenes es farà la celebració de la Diada Nacional de Catalunya al monòlit de la plaça 11 de setembre.     De 10.30 h a 12.30 h: Ofrena floral, entrega d’adhesions al 9N, lectura del Compromís i parlament de l’Alcalde. A més a més, hi haurà inflables, cant coral i sardanes.     A les 13.30 h: sortida del bus cap a Barcelona per la “V”.  
URI:https://www.calldetenes.cat/lactualitat/agenda/diada-nacional-11-de-setembre-de-2014.html
CLASS:PUBLIC
END:VEVENT
END:VCALENDAR
