BEGIN:VCALENDAR
VERSION:2.0
CALSCALE:GREGORIAN
PRODID:-//Diputació de Barcelona//DibaCMS//EN
BEGIN:VEVENT
UID:2751
DTSTAMP:20260423T164325
DTSTART:20140910T000000
DTEND:20140910T000000
SUMMARY:MARXA DELS VIGATANS: COLUMNA DE CALLDETENES
LOCATION:
METHOD:PUBLISH
X-WR-CALNAME:calldetenes@calldetenes.cat
X-WR-TIMEZONE:Europe/Madrid
DESCRIPTION:      La columna de Calldetenes de la Marxa del Vigatans 2014 sortirà el dia 10 de setembre a les 7h de la tarda de la Plaça 11 de Setembre de Calldetenes.      Més informació a: http://www.marxadelsvigatans.cat/   
URI:https://www.calldetenes.cat/lactualitat/agenda/marxa-dels-vigatans-columna-de-calldetenes.html
CLASS:PUBLIC
END:VEVENT
END:VCALENDAR
