BEGIN:VCALENDAR
VERSION:2.0
CALSCALE:GREGORIAN
PRODID:-//Diputació de Barcelona//DibaCMS//EN
BEGIN:VEVENT
UID:2750
DTSTAMP:20260423T135100
DTSTART:20140919T000000
DTEND:20141109T000000
SUMMARY:Festa Major de Calldetenes 2014
LOCATION:
METHOD:PUBLISH
X-WR-CALNAME:calldetenes@calldetenes.cat
X-WR-TIMEZONE:Europe/Madrid
DESCRIPTION:    SETEMBRE:    Dies 3, 4, 8 i 9 Taller de Capgrossos per a nens  Dia 11 Diada Nacional de Catalunya / Ofrena Floral / Sortida autocars a Barcelona per fer la “V”  Dia 14 Música per la Llibertat 1714-2014  Dia 19 Campionat de botifarra  Dia 20 Llançament de telèfons mòbils / Escacs / Gimcana Marrana / XXXV Premis Literaris de Calldetenes / Exposició de còmics  Dia 21 Campionat de petanca / 6a Cursa Ruta dels Molins / Cursa enduro / 5a Festa Canina / Cercavila recollida gent pel partit “PICHIE” / Partit “PICHIE” / Teatre infantil  Dia 22 Obertura de la XXX Exposició d’Artistes locals / Estrena curtmetratge / V Projecció de fotografies, Calldetenencs pel món  Dia 23 Pregó / Nomenament de Pubills i Pubilles / Botifarrada popular / Correfoc  Dia 24 La Mercè / Xocolatada / Jocs d’aventura / Missa solemne / Sardanes / Cafè concert / Ball Tornaboda  Dia 25 Espectacle i Animació infantil “Campi qui pugui” / Nit de Monòlegs  Dia 26 1a Cursa d’Orientació Popular Cap a la Independència / Sopar Jove / Concert del Pont d’Arcalis amb l’espectacle “Foc al Tribunal” / Concert Jove  Dia 27 III Fira de la Mercè / Activitats infantils / Cursa Slot (Scalextric) / 3r Ral·li Fotogràfic / Trobada de puntaires / Espectacle Circ i taller de trapezi / Calldetenes s’omple de Swing / 10è Aniversari “Cercamúsiques” / Sardanes / Festa “paquitos.cat“  Dia 28 Tir al plat / V Torneig de Bitlles catalanes / Cercavila / Baixada de carretons (anul·lat per pluja) / Teatre: El més feliç dels tres    OCTUBRE:  Dia 4 Teatre: El més feliç dels tres  Dia 5 XXX Caminada Popular de Calldetenes / Baixada de carretons    NOVEMBRE:  Dia 9 Festa de Sant Martí / Esmorzar popular / Missa / Sardanes  
URI:https://www.calldetenes.cat/lactualitat/agenda/2750-festa-major-de-calldetenes-2014.html
CLASS:PUBLIC
END:VEVENT
END:VCALENDAR
