BEGIN:VCALENDAR
VERSION:2.0
CALSCALE:GREGORIAN
PRODID:-//Diputació de Barcelona//DibaCMS//EN
BEGIN:VEVENT
UID:2749
DTSTAMP:20260423T180955
DTSTART:20140927T000000
DTEND:20140927T000000
SUMMARY:I Concurs de melmelades de la Fira de la Mercè de Calldetenes
LOCATION:
METHOD:PUBLISH
X-WR-CALNAME:calldetenes@calldetenes.cat
X-WR-TIMEZONE:Europe/Madrid
DESCRIPTION: Amb motiu de la Fira de la Mercè, que tindrà lloc el proper 27 de setembre, es convoca el I Concurs de melmelades elaborades artesanalment. Pot participar-hi tothom. Les melmelades es recolliran el mateix dia 27 de setembre a les 12 del migdia a l'escenari de la plaça Onze de Setembre (Espai gastronòmic de la Fira). Tot seguit es farà el tast i es procedirà a proclamar el guanyador del concurs, que s'emportarà com a premi el seu pes en sucre.        
URI:https://www.calldetenes.cat/lactualitat/agenda/i-concurs-de-melmelades-de-la-fira-de-la-merce-de-calldetenes.html
CLASS:PUBLIC
END:VEVENT
END:VCALENDAR
