BEGIN:VCALENDAR
VERSION:2.0
CALSCALE:GREGORIAN
PRODID:-//Diputació de Barcelona//DibaCMS//EN
BEGIN:VEVENT
UID:2746
DTSTAMP:20260423T164400
DTSTART:20140731T000000
DTEND:20140817T000000
SUMMARY:Concurs de samarretes de la Festa Major
LOCATION:
METHOD:PUBLISH
X-WR-CALNAME:calldetenes@calldetenes.cat
X-WR-TIMEZONE:Europe/Madrid
DESCRIPTION: Concurs de Samarretes de Festa Major (organitzat per La Pera i el JAC). Fins el 17 d’agost.  Més informació: https://www.facebook.com/events/407168272755025/
URI:https://www.calldetenes.cat/lactualitat/agenda/concurs-de-samarretes-de-la-festa-major.html
CLASS:PUBLIC
END:VEVENT
END:VCALENDAR
