BEGIN:VCALENDAR
VERSION:2.0
CALSCALE:GREGORIAN
PRODID:-//Diputació de Barcelona//DibaCMS//EN
BEGIN:VEVENT
UID:2745
DTSTAMP:20260423T151535
DTSTART:20140721T000000
DTEND:20140727T000000
SUMMARY:Festes del Barri de Darrere els Horts
LOCATION:
METHOD:PUBLISH
X-WR-CALNAME:calldetenes@calldetenes.cat
X-WR-TIMEZONE:Europe/Madrid
DESCRIPTION: Com cada estiu, arriben les tradicionals Festes del Barri de Darrere els Horts de Calldetenes amb un programa d’actes molt variat que s’allarga durant tota una setmana sencera. A partir del dilluns 21 de juliol i fins diumenge 27 de juliol, cada dia al vespre s’organitzen diverses activitats obertes a tothom: cursa de cargols, cursa de cambrers, joc del mocador, La Gran Quina Show o el sopar popular, entre moltes d’altres. Les festes es tancaran diumenge al matí amb xocolatada i animació infantil.      PROGRAMA D’ACTES:    Dilluns 21 de juliol, 21 h: cursa de cargols  Dimarts 22 de juliol, 21 h: cursa de motos de 0-4 anys i cursa de patinets (cal portar casc i protecció); joc del mocador.  Dimecres 23 de juliol, 21 h: cursa de cambrers i joc de les cadires  Dijous 24 de juliol, 21 h: cursa patata games i peta globus  Divendres 25 de juliol, 21.30 h: VI Gran Quina Barri Show, cantada per Tomeu Rossinyol (espot publicitari Peusek) i amb actuacions entre quina i quina.  Dissabte 26 de juliol, 21 h: botifarrada popular i mariatxis “Raíces Mejicanas” (preu del tiquet: 5€, a la venda als forns de pa i a El Clip fins el 25 de juliol).  Diumenge 27 de juliol, 10 h: xocolatada i animació infantil amb “Gil i Ratataplam”    Els que vulguin seure, que es portin cadira.  Cal portar cadira per jugar a la Quina.  Tots els premis dels jocs es donaran a l'acabar.  Sorteig del pernil del Barri el divendres 25.  La Comissió es reserva el dret a canviar el programa.  Si algú vol fer alguna actuació el dia de la Quina que truqui al telèfon 638232261 o a El Clip.    
URI:https://www.calldetenes.cat/lactualitat/agenda/festes-del-barri-de-darrere-els-horts.html
CLASS:PUBLIC
END:VEVENT
END:VCALENDAR
