BEGIN:VCALENDAR
VERSION:2.0
CALSCALE:GREGORIAN
PRODID:-//Diputació de Barcelona//DibaCMS//EN
BEGIN:VEVENT
UID:2744
DTSTAMP:20260423T181106
DTSTART:20140727T000000
DTEND:20140727T000000
SUMMARY:Inscripcions per anar a Barcelona en autobús l'11 de Setembre
LOCATION:
METHOD:PUBLISH
X-WR-CALNAME:calldetenes@calldetenes.cat
X-WR-TIMEZONE:Europe/Madrid
DESCRIPTION: Inscripcions per anar a Barcelona aquest 11 de Setembre des de Calldetenes: fins al 27 de juliol a l'ajuntament i als forns de pa del poble    
URI:https://www.calldetenes.cat/lactualitat/agenda/inscripcions-per-anar-a-barcelona-en-autobus-l11-de-setembre.html
CLASS:PUBLIC
END:VEVENT
END:VCALENDAR
