BEGIN:VCALENDAR
VERSION:2.0
CALSCALE:GREGORIAN
PRODID:-//Diputació de Barcelona//DibaCMS//EN
BEGIN:VEVENT
UID:2743
DTSTAMP:20260423T193651
DTSTART:20140622T000000
DTEND:20140622T000000
SUMMARY:Final de la Copa Osona 2014 de Trial
LOCATION:
METHOD:PUBLISH
X-WR-CALNAME:calldetenes@calldetenes.cat
X-WR-TIMEZONE:Europe/Madrid
DESCRIPTION: El proper diumenge dia 22 de juny finalitza a Calldetenes la quinzena edició de la Copa Osona de Trial.    El circuit de Trial de Calldetenes acollirà la darrera prova del certament osonenc iniciat el passat mes febrer a Folgueroles i que fins ara compta amb més de dos‐cents participants inscrits vinguts d’arreu de Catalunya, d’Andorra així com també de les comunitats d’Aragó i de Madrid.    Podeu trobar més informació al web de Trialsport          
URI:https://www.calldetenes.cat/lactualitat/agenda/final-de-la-copa-osona-2014-de-trial.html
CLASS:PUBLIC
END:VEVENT
END:VCALENDAR
