BEGIN:VCALENDAR
VERSION:2.0
CALSCALE:GREGORIAN
PRODID:-//Diputació de Barcelona//DibaCMS//EN
BEGIN:VEVENT
UID:2742
DTSTAMP:20260423T222614
DTSTART:20140622T000000
DTEND:20140622T000000
SUMMARY:Mercat del Trasto 2014
LOCATION:
METHOD:PUBLISH
X-WR-CALNAME:calldetenes@calldetenes.cat
X-WR-TIMEZONE:Europe/Madrid
DESCRIPTION: L’edició d’enguany del Mercat del Trasto de Calldetenes serà el proper diumenge 22 de juny i s’instal·larà durant tot el matí al centre de la plaça 11 de setembre. En aquest mercat d’ocasió s’hi poden trobar gran varietat de productes de segona mà a bon preu: roba, elements de decoració, llibres, bijuteria, complements, joguines, mobiliari, estris de cuina...      Les persones interessades a posar una parada poden fer la inscripció a les oficines de l’ajuntament en horari d’atenció al públic fins el dijous 19 de juny inclòs. El preu és de 5€ el metre lineal i cal pagar en el moment de realitzar la inscripció, que queda confirmada en el mateix moment pels participants del poble. Els interessats d’altres poblacions se’ls informarà a través d’una trucada un cop feta la corresponent valoració.   
URI:https://www.calldetenes.cat/lactualitat/agenda/mercat-del-trasto-2014.html
CLASS:PUBLIC
END:VEVENT
END:VCALENDAR
