BEGIN:VCALENDAR
VERSION:2.0
CALSCALE:GREGORIAN
PRODID:-//Diputació de Barcelona//DibaCMS//EN
BEGIN:VEVENT
UID:2741
DTSTAMP:20260423T205643
DTSTART:20140731T201500
DTEND:20140731T000000
SUMMARY:Caminades a la fresca 2014
LOCATION:
METHOD:PUBLISH
X-WR-CALNAME:calldetenes@calldetenes.cat
X-WR-TIMEZONE:Europe/Madrid
DESCRIPTION: El dijous 31 de juliol també hi haurà Caminada a la Fresca!     
URI:https://www.calldetenes.cat/lactualitat/agenda/caminades-a-la-fresca-2014.html
CLASS:PUBLIC
END:VEVENT
END:VCALENDAR
