BEGIN:VCALENDAR
VERSION:2.0
CALSCALE:GREGORIAN
PRODID:-//Diputació de Barcelona//DibaCMS//EN
BEGIN:VEVENT
UID:2740
DTSTAMP:20260423T220821
DTSTART:20140529T000000
DTEND:20140529T000000
SUMMARY:"Les pensions en una Catalunya independent", xerrada a càrrec de Jordi Sans
LOCATION:
METHOD:PUBLISH
X-WR-CALNAME:calldetenes@calldetenes.cat
X-WR-TIMEZONE:Europe/Madrid
DESCRIPTION: “LES PENSIONS EN UNA CATALUNYA INDEPENDENT”, xerrada a càrrec de Jordi Sans  El proper dijous 29 de maig a les 7 de la tarda al Casal de Calldetenes.    
URI:https://www.calldetenes.cat/lactualitat/agenda/les-pensions-en-una-catalunya-independent-xerrada-a-carrec-de-jordi-sans.html
CLASS:PUBLIC
END:VEVENT
END:VCALENDAR
