BEGIN:VCALENDAR
VERSION:2.0
CALSCALE:GREGORIAN
PRODID:-//Diputació de Barcelona//DibaCMS//EN
BEGIN:VEVENT
UID:2739
DTSTAMP:20260423T210052
DTSTART:20140529T000000
DTEND:20140618T000000
SUMMARY:PISCINES DE CALLDETENES
LOCATION:
METHOD:PUBLISH
X-WR-CALNAME:calldetenes@calldetenes.cat
X-WR-TIMEZONE:Europe/Madrid
DESCRIPTION:   Des del dijous 29 de maig les Piscines de Calldetenes tornen a obrir les instal·lacions. La novetat d’aquest any són les Nits a la Fresca. Es continuarà amb els cursets de natació, els inflables, el servei de menús i les festes d’aniversari. La piscina de Calldetenes, igual que els darrers anys, serà d’aigua salada.  Per a més informació: www.piscinescalldetenes.cat
URI:https://www.calldetenes.cat/lactualitat/agenda/piscines-de-calldetenes.html
CLASS:PUBLIC
END:VEVENT
END:VCALENDAR
