BEGIN:VCALENDAR
VERSION:2.0
CALSCALE:GREGORIAN
PRODID:-//Diputació de Barcelona//DibaCMS//EN
BEGIN:VEVENT
UID:2738
DTSTAMP:20260423T193716
DTSTART:20140531T000000
DTEND:20140531T000000
SUMMARY:Jornada oberta al públic del nou Institut de Calldetenes
LOCATION:
METHOD:PUBLISH
X-WR-CALNAME:calldetenes@calldetenes.cat
X-WR-TIMEZONE:Europe/Madrid
DESCRIPTION: dissabte 31/5/2014   Jornada oberta al públic   10h. Obrim les portes de l’institut a tothom!   10:30h. Plantada d’arbres al pati.   11h. Benvinguda i xocolatada! (Cal portar la tassa)   12h. Concert dels alumnes de l’institut.   Organitzen: els 5 Ajuntaments, l’AMPA i el personal del centre.   Obrim el nou institut a tothom!!
URI:https://www.calldetenes.cat/lactualitat/agenda/jornada-oberta-al-public-del-nou-institut-de-calldetenes.html
CLASS:PUBLIC
END:VEVENT
END:VCALENDAR
