BEGIN:VCALENDAR
VERSION:2.0
CALSCALE:GREGORIAN
PRODID:-//Diputació de Barcelona//DibaCMS//EN
BEGIN:VEVENT
UID:2737
DTSTAMP:20260423T193543
DTSTART:20140601T000000
DTEND:20140601T000000
SUMMARY:Celebració del 49è Homenatge a la Gent Gran el diumenge 1 de juny
LOCATION:
METHOD:PUBLISH
X-WR-CALNAME:calldetenes@calldetenes.cat
X-WR-TIMEZONE:Europe/Madrid
DESCRIPTION:   Calldetenes celebrarà el proper diumenge 1 de juny el 49è Homenatge a la Gent Gran. El programa d’actes començarà a les 11.30 h amb la missa cantada i la presentació d’ofrenes. Després de que els homenatjats siguin obsequiats amb rams, tindrà lloc una actuació sorpresa a l’Auditori-Teatre de Calldetenes i el tradicional dinar de germanor.     
URI:https://www.calldetenes.cat/lactualitat/agenda/celebracio-del-49e-homenatge-a-la-gent-gran-el-diumenge-1-de-juny.html
CLASS:PUBLIC
END:VEVENT
END:VCALENDAR
