BEGIN:VCALENDAR
VERSION:2.0
CALSCALE:GREGORIAN
PRODID:-//Diputació de Barcelona//DibaCMS//EN
BEGIN:VEVENT
UID:2734
DTSTAMP:20260423T205445
DTSTART:20140602T000000
DTEND:20140801T000000
SUMMARY:Programació del Teatre.
LOCATION:
METHOD:PUBLISH
X-WR-CALNAME:calldetenes@calldetenes.cat
X-WR-TIMEZONE:Europe/Madrid
DESCRIPTION: Veure les noves propostes de la programació al web de l'Auditori Teatre de Calldetenes         -- 
URI:https://www.calldetenes.cat/lactualitat/agenda/programacio-del-teatre.html
CLASS:PUBLIC
END:VEVENT
END:VCALENDAR
