BEGIN:VCALENDAR
VERSION:2.0
CALSCALE:GREGORIAN
PRODID:-//Diputació de Barcelona//DibaCMS//EN
BEGIN:VEVENT
UID:2722
DTSTAMP:20260423T121921
DTSTART:20230818T000000
DTEND:20130818T000000
SUMMARY:Festa del Batre
LOCATION:
METHOD:PUBLISH
X-WR-CALNAME:calldetenes@calldetenes.cat
X-WR-TIMEZONE:Europe/Madrid
DESCRIPTION: La Festa del Batre de Calldetenes tindrà lloc al Molí de la Calvaria el proper 18 d'agost  Veure cartell amb activitats programades  Fotos de la Festa del Batre 2012 a el 9Nou.cat
URI:https://www.calldetenes.cat/lactualitat/agenda/festa-del-batre.html
CLASS:PUBLIC
END:VEVENT
END:VCALENDAR
