BEGIN:VCALENDAR
VERSION:2.0
CALSCALE:GREGORIAN
PRODID:-//Diputació de Barcelona//DibaCMS//EN
BEGIN:VEVENT
UID:2714
DTSTAMP:20260424T101019
DTSTART:20130210T000000
DTEND:20130210T000000
SUMMARY:Calldeclowns. 2n Festival de Pallassos de Calldetenes
LOCATION:
METHOD:PUBLISH
X-WR-CALNAME:calldetenes@calldetenes.cat
X-WR-TIMEZONE:Europe/Madrid
DESCRIPTION: Veure la programació del Festival
URI:https://www.calldetenes.cat/lactualitat/agenda/calldeclowns-2n-festival-de-pallassos-de-calldetenes.html
CLASS:PUBLIC
END:VEVENT
END:VCALENDAR
